BEGIN:VCALENDAR
VERSION:2.0
PRODID:-//eventon.com NONSGML v1.0//EN
CALSCALE:GREGORIAN
METHOD:PUBLISH
BEGIN:VEVENT
UID:69e554a5da246
DTSTAMP:20260419T221813Z
DTSTART:20240325T170000Z
DTEND:20240327T010000Z
LOCATION:https://facebook.com/2riversremixsociety/live
SUMMARY:The Confluence/skəlɣap - Live-stream
DESCRIPTION:2 Rivers Remix Society presents the 2024 Confluence (skəlɣap 
 in syilx\,  our host Nation&#8217;s language)\,  a public live streamed eve
 nt\,  which aims to bring together Indigenous community representatives wit
 h a diverse group of Indigenous musicians\,  academics and cultural organiz
 ers to build networks\,  deliver resources and facilitate knowledge sharing
  from across[..]\nhttps://virtualfeast.ca/events/confluence/var/event_acces
 s
URL:https://virtualfeast.ca/events/confluence/var/event_access
END:VEVENT
END:VCALENDAR